BEGIN:VCALENDAR
VERSION:2.0
PRODID:-//REDMES - ECPv6.15.15//NONSGML v1.0//EN
CALSCALE:GREGORIAN
METHOD:PUBLISH
X-WR-CALNAME:REDMES
X-ORIGINAL-URL:https://redmes.org
X-WR-CALDESC:Eventos para REDMES
REFRESH-INTERVAL;VALUE=DURATION:PT1H
X-Robots-Tag:noindex
X-PUBLISHED-TTL:PT1H
BEGIN:VTIMEZONE
TZID:UTC
BEGIN:STANDARD
TZOFFSETFROM:+0000
TZOFFSETTO:+0000
TZNAME:UTC
DTSTART:20250101T000000
END:STANDARD
END:VTIMEZONE
BEGIN:VEVENT
DTSTART;VALUE=DATE:20261008
DTEND;VALUE=DATE:20261009
DTSTAMP:20260424T134855
CREATED:20260401T172709Z
LAST-MODIFIED:20260401T172709Z
UID:2206-1791417600-1791503999@redmes.org
SUMMARY:REDMES Workshop Productoras y Corredoras
DESCRIPTION:
URL:https://redmes.org/event/redmes-workshop-productoras-y-corredoras-7/
ATTACH;FMTTYPE=image/jpeg:https://redmes.org/wp-content/uploads/2026/04/Workshop-5.jpg
END:VEVENT
BEGIN:VEVENT
DTSTART;VALUE=DATE:20261029
DTEND;VALUE=DATE:20261030
DTSTAMP:20260424T134855
CREATED:20260401T171253Z
LAST-MODIFIED:20260401T171253Z
UID:2198-1793232000-1793318399@redmes.org
SUMMARY:REDMES | MEETING POINT CHILE
DESCRIPTION:
URL:https://redmes.org/event/redmes-meeting-point-chile/
ATTACH;FMTTYPE=image/jpeg:https://redmes.org/wp-content/uploads/2026/04/MP-cHILE.jpg
END:VEVENT
END:VCALENDAR