BEGIN:VCALENDAR
VERSION:2.0
PRODID:-//REDMES - ECPv6.15.15//NONSGML v1.0//EN
CALSCALE:GREGORIAN
METHOD:PUBLISH
X-WR-CALNAME:REDMES
X-ORIGINAL-URL:https://redmes.org
X-WR-CALDESC:Eventos para REDMES
REFRESH-INTERVAL;VALUE=DURATION:PT1H
X-Robots-Tag:noindex
X-PUBLISHED-TTL:PT1H
BEGIN:VTIMEZONE
TZID:UTC
BEGIN:STANDARD
TZOFFSETFROM:+0000
TZOFFSETTO:+0000
TZNAME:UTC
DTSTART:20250101T000000
END:STANDARD
END:VTIMEZONE
BEGIN:VEVENT
DTSTART;VALUE=DATE:20260427
DTEND;VALUE=DATE:20260428
DTSTAMP:20260423T212104
CREATED:20260330T183206Z
LAST-MODIFIED:20260330T183206Z
UID:2167-1777248000-1777334399@redmes.org
SUMMARY:REDMES Programa de Mentoreo | Cierre de Inscripcion y Armado de Duplas
DESCRIPTION:
URL:https://redmes.org/event/redmes-programa-de-mentoreo-cierre-de-inscripcion-y-armado-de-duplas/
ATTACH;FMTTYPE=image/jpeg:https://redmes.org/wp-content/uploads/2026/03/PROGRAMADE-MENTOREO.jpg
END:VEVENT
BEGIN:VEVENT
DTSTART;VALUE=DATE:20260428
DTEND;VALUE=DATE:20260429
DTSTAMP:20260423T212104
CREATED:20260313T145808Z
LAST-MODIFIED:20260401T183458Z
UID:2091-1777334400-1777420799@redmes.org
SUMMARY:REDMES Programa de Mentoreo | Capacitación Mentees
DESCRIPTION:Ser protagonista de tu mentoría
URL:https://redmes.org/event/redmes-programa-de-mentoreo-capacitacion-mentees-2/
ATTACH;FMTTYPE=image/jpeg:https://redmes.org/wp-content/uploads/2026/03/Formacion-mentees.jpg
END:VEVENT
BEGIN:VEVENT
DTSTART;VALUE=DATE:20260430
DTEND;VALUE=DATE:20260501
DTSTAMP:20260423T212104
CREATED:20260313T142725Z
LAST-MODIFIED:20260401T150046Z
UID:2084-1777507200-1777593599@redmes.org
SUMMARY:REDMES  | MEETING POINT BOLIVIA
DESCRIPTION:
URL:https://redmes.org/event/redmes-meeting-point-bolivia/
ATTACH;FMTTYPE=image/jpeg:https://redmes.org/wp-content/uploads/2026/03/Bolivia-2026.jpg
END:VEVENT
BEGIN:VEVENT
DTSTART;VALUE=DATE:20260505
DTEND;VALUE=DATE:20260506
DTSTAMP:20260423T212104
CREATED:20260313T144117Z
LAST-MODIFIED:20260401T150034Z
UID:2087-1777939200-1778025599@redmes.org
SUMMARY:REDMES Programa de Mentoreo Inicio de relacionamiento
DESCRIPTION:
URL:https://redmes.org/event/redmes-programa-de-mentoreo-inicio-de-relacionamiento/
ATTACH;FMTTYPE=image/jpeg:https://redmes.org/wp-content/uploads/2026/03/Programa-de-mentoreo-web.jpg
END:VEVENT
BEGIN:VEVENT
DTSTART;VALUE=DATE:20260512
DTEND;VALUE=DATE:20260513
DTSTAMP:20260423T212104
CREATED:20260314T135244Z
LAST-MODIFIED:20260401T183611Z
UID:2099-1778544000-1778630399@redmes.org
SUMMARY:REDMES Workshop Productoras y Corredoras
DESCRIPTION:Diseñá tu desarrollo
URL:https://redmes.org/event/redmes-workshop-productoras-y-corredoras-2/
ATTACH;FMTTYPE=image/jpeg:https://redmes.org/wp-content/uploads/2026/03/AMAGENES-agenda-web.jpg
END:VEVENT
BEGIN:VEVENT
DTSTART;TZID=UTC:20260514T080000
DTEND;TZID=UTC:20260514T170000
DTSTAMP:20260423T212104
CREATED:20260314T151000Z
LAST-MODIFIED:20260330T183905Z
UID:2112-1778745600-1778778000@redmes.org
SUMMARY:REDMES Workshop Productoras y Corredoras
DESCRIPTION:ANALISIS DE RIESGOS COMPLEJOS
URL:https://redmes.org/event/redmes-workshop-productoras-y-corredoras-3/
ATTACH;FMTTYPE=image/jpeg:https://redmes.org/wp-content/uploads/2026/03/Workshop-1.jpg
END:VEVENT
BEGIN:VEVENT
DTSTART;VALUE=DATE:20260521
DTEND;VALUE=DATE:20260522
DTSTAMP:20260423T212104
CREATED:20260314T144008Z
LAST-MODIFIED:20260314T144148Z
UID:2105-1779321600-1779407999@redmes.org
SUMMARY:REDMES Workshop Latam
DESCRIPTION:
URL:https://redmes.org/event/redmes-workshop-latam/
ATTACH;FMTTYPE=image/jpeg:https://redmes.org/wp-content/uploads/2026/03/Workshop.jpg
END:VEVENT
BEGIN:VEVENT
DTSTART;TZID=UTC:20260521T080000
DTEND;TZID=UTC:20260521T170000
DTSTAMP:20260423T212104
CREATED:20260314T141809Z
LAST-MODIFIED:20260401T150018Z
UID:2102-1779350400-1779382800@redmes.org
SUMMARY:REDMES  | MEETING POINT PARAGUAY
DESCRIPTION:
URL:https://redmes.org/event/redmes-meeting-point-paraguay/
ATTACH;FMTTYPE=image/jpeg:https://redmes.org/wp-content/uploads/2026/03/Paraguay-2026.jpg
END:VEVENT
BEGIN:VEVENT
DTSTART;VALUE=DATE:20260526
DTEND;VALUE=DATE:20260527
DTSTAMP:20260423T212104
CREATED:20260314T145604Z
LAST-MODIFIED:20260314T145604Z
UID:2109-1779753600-1779839999@redmes.org
SUMMARY:Lanzamiento PREMIO REDMES 2026
DESCRIPTION:
URL:https://redmes.org/event/lanzamiento-premio-redmes-2026/
ATTACH;FMTTYPE=image/jpeg:https://redmes.org/wp-content/uploads/2026/03/Premio-REDMES-2026.jpg
END:VEVENT
BEGIN:VEVENT
DTSTART;VALUE=DATE:20260528
DTEND;VALUE=DATE:20260529
DTSTAMP:20260423T212104
CREATED:20260401T180053Z
LAST-MODIFIED:20260401T180231Z
UID:2214-1779926400-1780012799@redmes.org
SUMMARY:REDMES Workshop  Todas
DESCRIPTION:
URL:https://redmes.org/event/redmes-workshop-todas/
ATTACH;FMTTYPE=image/jpeg:https://redmes.org/wp-content/uploads/2026/04/Workshop-7.jpg
END:VEVENT
BEGIN:VEVENT
DTSTART;VALUE=DATE:20260611
DTEND;VALUE=DATE:20260612
DTSTAMP:20260423T212104
CREATED:20260313T131833Z
LAST-MODIFIED:20260330T184258Z
UID:2073-1781136000-1781222399@redmes.org
SUMMARY:REDMES Workshop Productoras y Corredoras
DESCRIPTION:ESTRATEGIA Y PLANIFICACION COMERCIAL
URL:https://redmes.org/event/redmes-workshop-productoras-y-corredoras/
ATTACH;FMTTYPE=image/jpeg:https://redmes.org/wp-content/uploads/2026/03/women-presentation-office-scaled.jpg
END:VEVENT
BEGIN:VEVENT
DTSTART;VALUE=DATE:20260618
DTEND;VALUE=DATE:20260619
DTSTAMP:20260423T212104
CREATED:20260314T151928Z
LAST-MODIFIED:20260401T145742Z
UID:2115-1781740800-1781827199@redmes.org
SUMMARY:REDMES  | MEETING POINT ARGENTINA
DESCRIPTION:
URL:https://redmes.org/event/redmes-meeting-point-argentina/
ATTACH;FMTTYPE=image/jpeg:https://redmes.org/wp-content/uploads/2026/03/Argentina-2026.jpg
END:VEVENT
BEGIN:VEVENT
DTSTART;VALUE=DATE:20260706
DTEND;VALUE=DATE:20260707
DTSTAMP:20260423T212104
CREATED:20260401T145542Z
LAST-MODIFIED:20260401T145713Z
UID:2171-1783296000-1783382399@redmes.org
SUMMARY:REDMES Programa de Mentoreo | Cierre de 7°edición
DESCRIPTION:
URL:https://redmes.org/event/redmes-programa-de-mentoreo-cierre-de-7edicion/
ATTACH;FMTTYPE=image/jpeg:https://redmes.org/wp-content/uploads/2026/04/cierre-de-PROGRAMADE-MENTOREO.jpg
END:VEVENT
BEGIN:VEVENT
DTSTART;VALUE=DATE:20260708
DTEND;VALUE=DATE:20260709
DTSTAMP:20260423T212104
CREATED:20260401T153703Z
LAST-MODIFIED:20260401T182904Z
UID:2183-1783468800-1783555199@redmes.org
SUMMARY:REDMES Workshop Productoras y Corredoras
DESCRIPTION:
URL:https://redmes.org/event/redmes-workshop-productoras-y-corredoras-4/
ATTACH;FMTTYPE=image/jpeg:https://redmes.org/wp-content/uploads/2026/04/Workshop-2.jpg
END:VEVENT
BEGIN:VEVENT
DTSTART;VALUE=DATE:20260731
DTEND;VALUE=DATE:20260801
DTSTAMP:20260423T212104
CREATED:20260401T155933Z
LAST-MODIFIED:20260401T163357Z
UID:2188-1785456000-1785542399@redmes.org
SUMMARY:PREMIO REDMES 2026 Fin de votaciones
DESCRIPTION:
URL:https://redmes.org/event/premio-redmes-2026-fin-de-votaciones/
ATTACH;FMTTYPE=image/jpeg:https://redmes.org/wp-content/uploads/2026/03/Premio-REDMES-2026.jpg
END:VEVENT
BEGIN:VEVENT
DTSTART;VALUE=DATE:20260813
DTEND;VALUE=DATE:20260814
DTSTAMP:20260423T212104
CREATED:20260401T164956Z
LAST-MODIFIED:20260401T165117Z
UID:2190-1786579200-1786665599@redmes.org
SUMMARY:REDMES Workshop Productoras y Corredoras
DESCRIPTION:
URL:https://redmes.org/event/redmes-workshop-productoras-y-corredoras-5/
ATTACH;FMTTYPE=image/jpeg:https://redmes.org/wp-content/uploads/2026/04/Workshop-3.jpg
END:VEVENT
BEGIN:VEVENT
DTSTART;VALUE=DATE:20260827
DTEND;VALUE=DATE:20260828
DTSTAMP:20260423T212104
CREATED:20260401T165920Z
LAST-MODIFIED:20260401T165920Z
UID:2195-1787788800-1787875199@redmes.org
SUMMARY:REDMES | MEETING POINT URUGUAY
DESCRIPTION:
URL:https://redmes.org/event/redmes-meeting-point-uruguay/
ATTACH;FMTTYPE=image/jpeg:https://redmes.org/wp-content/uploads/2026/04/MP-uruguay.jpg
END:VEVENT
BEGIN:VEVENT
DTSTART;VALUE=DATE:20260910
DTEND;VALUE=DATE:20260911
DTSTAMP:20260423T212104
CREATED:20260401T171846Z
LAST-MODIFIED:20260401T171846Z
UID:2202-1788998400-1789084799@redmes.org
SUMMARY:REDMES Workshop Productoras y Corredoras
DESCRIPTION:
URL:https://redmes.org/event/redmes-workshop-productoras-y-corredoras-6/
ATTACH;FMTTYPE=image/jpeg:https://redmes.org/wp-content/uploads/2026/04/Workshop-4.jpg
END:VEVENT
BEGIN:VEVENT
DTSTART;VALUE=DATE:20261008
DTEND;VALUE=DATE:20261009
DTSTAMP:20260423T212104
CREATED:20260401T172709Z
LAST-MODIFIED:20260401T172709Z
UID:2206-1791417600-1791503999@redmes.org
SUMMARY:REDMES Workshop Productoras y Corredoras
DESCRIPTION:
URL:https://redmes.org/event/redmes-workshop-productoras-y-corredoras-7/
ATTACH;FMTTYPE=image/jpeg:https://redmes.org/wp-content/uploads/2026/04/Workshop-5.jpg
END:VEVENT
BEGIN:VEVENT
DTSTART;VALUE=DATE:20261029
DTEND;VALUE=DATE:20261030
DTSTAMP:20260423T212104
CREATED:20260401T171253Z
LAST-MODIFIED:20260401T171253Z
UID:2198-1793232000-1793318399@redmes.org
SUMMARY:REDMES | MEETING POINT CHILE
DESCRIPTION:
URL:https://redmes.org/event/redmes-meeting-point-chile/
ATTACH;FMTTYPE=image/jpeg:https://redmes.org/wp-content/uploads/2026/04/MP-cHILE.jpg
END:VEVENT
BEGIN:VEVENT
DTSTART;VALUE=DATE:20261112
DTEND;VALUE=DATE:20261113
DTSTAMP:20260423T212104
CREATED:20260401T174459Z
LAST-MODIFIED:20260401T174459Z
UID:2210-1794441600-1794527999@redmes.org
SUMMARY:REDMES Workshop Productoras y Corredoras
DESCRIPTION:
URL:https://redmes.org/event/redmes-workshop-productoras-y-corredoras-8/
ATTACH;FMTTYPE=image/jpeg:https://redmes.org/wp-content/uploads/2026/04/Workshop-6.jpg
END:VEVENT
END:VCALENDAR