BEGIN:VCALENDAR
VERSION:2.0
PRODID:-//REDMES - ECPv6.15.15//NONSGML v1.0//EN
CALSCALE:GREGORIAN
METHOD:PUBLISH
X-WR-CALNAME:REDMES
X-ORIGINAL-URL:https://redmes.org
X-WR-CALDESC:Eventos para REDMES
REFRESH-INTERVAL;VALUE=DURATION:PT1H
X-Robots-Tag:noindex
X-PUBLISHED-TTL:PT1H
BEGIN:VTIMEZONE
TZID:UTC
BEGIN:STANDARD
TZOFFSETFROM:+0000
TZOFFSETTO:+0000
TZNAME:UTC
DTSTART:20250101T000000
END:STANDARD
END:VTIMEZONE
BEGIN:VEVENT
DTSTART;VALUE=DATE:20260731
DTEND;VALUE=DATE:20260801
DTSTAMP:20260424T104617
CREATED:20260401T155933Z
LAST-MODIFIED:20260401T163357Z
UID:2188-1785456000-1785542399@redmes.org
SUMMARY:PREMIO REDMES 2026 Fin de votaciones
DESCRIPTION:
URL:https://redmes.org/event/premio-redmes-2026-fin-de-votaciones/
ATTACH;FMTTYPE=image/jpeg:https://redmes.org/wp-content/uploads/2026/03/Premio-REDMES-2026.jpg
END:VEVENT
END:VCALENDAR