BEGIN:VCALENDAR
VERSION:2.0
PRODID:-//REDMES - ECPv6.15.15//NONSGML v1.0//EN
CALSCALE:GREGORIAN
METHOD:PUBLISH
X-WR-CALNAME:REDMES
X-ORIGINAL-URL:https://redmes.org
X-WR-CALDESC:Eventos para REDMES
REFRESH-INTERVAL;VALUE=DURATION:PT1H
X-Robots-Tag:noindex
X-PUBLISHED-TTL:PT1H
BEGIN:VTIMEZONE
TZID:UTC
BEGIN:STANDARD
TZOFFSETFROM:+0000
TZOFFSETTO:+0000
TZNAME:UTC
DTSTART:20250101T000000
END:STANDARD
END:VTIMEZONE
BEGIN:VEVENT
DTSTART;VALUE=DATE:20260521
DTEND;VALUE=DATE:20260522
DTSTAMP:20260424T072428
CREATED:20260314T144008Z
LAST-MODIFIED:20260314T144148Z
UID:2105-1779321600-1779407999@redmes.org
SUMMARY:REDMES Workshop Latam
DESCRIPTION:
URL:https://redmes.org/event/redmes-workshop-latam/
ATTACH;FMTTYPE=image/jpeg:https://redmes.org/wp-content/uploads/2026/03/Workshop.jpg
END:VEVENT
BEGIN:VEVENT
DTSTART;TZID=UTC:20260521T080000
DTEND;TZID=UTC:20260521T170000
DTSTAMP:20260424T072428
CREATED:20260314T141809Z
LAST-MODIFIED:20260401T150018Z
UID:2102-1779350400-1779382800@redmes.org
SUMMARY:REDMES  | MEETING POINT PARAGUAY
DESCRIPTION:
URL:https://redmes.org/event/redmes-meeting-point-paraguay/
ATTACH;FMTTYPE=image/jpeg:https://redmes.org/wp-content/uploads/2026/03/Paraguay-2026.jpg
END:VEVENT
END:VCALENDAR