BEGIN:VCALENDAR
VERSION:2.0
PRODID:-//REDMES - ECPv6.15.15//NONSGML v1.0//EN
CALSCALE:GREGORIAN
METHOD:PUBLISH
X-WR-CALNAME:REDMES
X-ORIGINAL-URL:https://redmes.org
X-WR-CALDESC:Eventos para REDMES
REFRESH-INTERVAL;VALUE=DURATION:PT1H
X-Robots-Tag:noindex
X-PUBLISHED-TTL:PT1H
BEGIN:VTIMEZONE
TZID:UTC
BEGIN:STANDARD
TZOFFSETFROM:+0000
TZOFFSETTO:+0000
TZNAME:UTC
DTSTART:20250101T000000
END:STANDARD
END:VTIMEZONE
BEGIN:VEVENT
DTSTART;VALUE=DATE:20260415
DTEND;VALUE=DATE:20260416
DTSTAMP:20260424T055448
CREATED:20260330T180905Z
LAST-MODIFIED:20260401T150114Z
UID:2160-1776211200-1776297599@redmes.org
SUMMARY:REDMES | MEETING POINT MEXICO
DESCRIPTION:
URL:https://redmes.org/event/redmes-meeting-point-mexico/
ATTACH;FMTTYPE=image/jpeg:https://redmes.org/wp-content/uploads/2026/03/MP-Mexico.jpg
END:VEVENT
END:VCALENDAR