BEGIN:VCALENDAR
VERSION:2.0
PRODID:-//REDMES - ECPv6.15.15//NONSGML v1.0//EN
CALSCALE:GREGORIAN
METHOD:PUBLISH
X-ORIGINAL-URL:https://redmes.org
X-WR-CALDESC:Eventos para REDMES
REFRESH-INTERVAL;VALUE=DURATION:PT1H
X-Robots-Tag:noindex
X-PUBLISHED-TTL:PT1H
BEGIN:VTIMEZONE
TZID:UTC
BEGIN:STANDARD
TZOFFSETFROM:+0000
TZOFFSETTO:+0000
TZNAME:UTC
DTSTART:20250101T000000
END:STANDARD
END:VTIMEZONE
BEGIN:VEVENT
DTSTART;VALUE=DATE:20260414
DTEND;VALUE=DATE:20260415
DTSTAMP:20260424T055606
CREATED:20260313T133435Z
LAST-MODIFIED:20260401T183325Z
UID:2077-1776124800-1776211199@redmes.org
SUMMARY:REDMES Programa de Mentoreo | Capacitación Mentoras/es
DESCRIPTION:Mentorear con impacto
URL:https://redmes.org/event/redmes-programa-de-mentoreo-capacitacion-mentores-as/
ATTACH;FMTTYPE=image/jpeg:https://redmes.org/wp-content/uploads/2026/03/Programa-de-mentoreo-web.jpg
END:VEVENT
END:VCALENDAR