BEGIN:VCALENDAR
VERSION:2.0
PRODID:-//REDMES - ECPv6.15.15//NONSGML v1.0//EN
CALSCALE:GREGORIAN
METHOD:PUBLISH
X-WR-CALNAME:REDMES
X-ORIGINAL-URL:https://redmes.org
X-WR-CALDESC:Eventos para REDMES
REFRESH-INTERVAL;VALUE=DURATION:PT1H
X-Robots-Tag:noindex
X-PUBLISHED-TTL:PT1H
BEGIN:VTIMEZONE
TZID:UTC
BEGIN:STANDARD
TZOFFSETFROM:+0000
TZOFFSETTO:+0000
TZNAME:UTC
DTSTART:20250101T000000
END:STANDARD
END:VTIMEZONE
BEGIN:VEVENT
DTSTART;VALUE=DATE:20260223
DTEND;VALUE=DATE:20260224
DTSTAMP:20260424T090855
CREATED:20260215T232509Z
LAST-MODIFIED:20260215T232509Z
UID:1897-1771804800-1771891199@redmes.org
SUMMARY:PARAGUAY 2026 | Evento Dia de la mujer Paraguaya
DESCRIPTION:En el marco del Día de la Mujer Paraguaya\, reuniremos a 100 ejecutivas del sector asegurador del país el día 23 de Febrero en Asunción.\nContaremos con la participación especial de Carolina Galeano de Bestard\, en un espacio de encuentro y networking para líderes del sector asegurador y financiero.
URL:https://redmes.org/event/paraguay-2026-evento-dia-de-la-mujer-paraguaya/
ATTACH;FMTTYPE=image/jpeg:https://redmes.org/wp-content/uploads/2026/02/RedMES-Presentacion-2026.jpg
END:VEVENT
END:VCALENDAR